BEGIN:VCALENDAR
VERSION:2.0
PRODID:-//Leck-Huus - ECPv6.15.18//NONSGML v1.0//EN
CALSCALE:GREGORIAN
METHOD:PUBLISH
X-ORIGINAL-URL:https://leck-huus.de
X-WR-CALDESC:Veranstaltungen für Leck-Huus
REFRESH-INTERVAL;VALUE=DURATION:PT1H
X-Robots-Tag:noindex
X-PUBLISHED-TTL:PT1H
BEGIN:VTIMEZONE
TZID:Europe/Berlin
BEGIN:DAYLIGHT
TZOFFSETFROM:+0100
TZOFFSETTO:+0200
TZNAME:CEST
DTSTART:20240331T010000
END:DAYLIGHT
BEGIN:STANDARD
TZOFFSETFROM:+0200
TZOFFSETTO:+0100
TZNAME:CET
DTSTART:20241027T010000
END:STANDARD
BEGIN:DAYLIGHT
TZOFFSETFROM:+0100
TZOFFSETTO:+0200
TZNAME:CEST
DTSTART:20250330T010000
END:DAYLIGHT
BEGIN:STANDARD
TZOFFSETFROM:+0200
TZOFFSETTO:+0100
TZNAME:CET
DTSTART:20251026T010000
END:STANDARD
BEGIN:DAYLIGHT
TZOFFSETFROM:+0100
TZOFFSETTO:+0200
TZNAME:CEST
DTSTART:20260329T010000
END:DAYLIGHT
BEGIN:STANDARD
TZOFFSETFROM:+0200
TZOFFSETTO:+0100
TZNAME:CET
DTSTART:20261025T010000
END:STANDARD
END:VTIMEZONE
BEGIN:VEVENT
DTSTART;TZID=Europe/Berlin:20250928T140000
DTEND;TZID=Europe/Berlin:20250928T180000
DTSTAMP:20260420T001832
CREATED:20250519T101841Z
LAST-MODIFIED:20250818T095828Z
UID:1296-1759068000-1759082400@leck-huus.de
SUMMARY:12. Lecker Landmarkt
DESCRIPTION:Wir freuen uns\, dass der 12. Lecker Landmarkt in unserem Haus stattfindet. \nZweimal im Jahr sind regionale Produzenten und Kunsthandwerker eingeladen\, ihr Angebot parallel zum Lecker Jahrmarkt beim verkaufsoffenen Sonntag zu präsentieren. Am Sonntag\, den 28. September 2025 von 14:00 bis 18:00 Uhr erstmals „indoor“ im Leck-Huus. \nSelbstverständlich gibt es wieder eine Tombola mit tollen Preisen\, der Erlös kommt wie immer einem guten Zweck zugute. \nDiese Traditionsveranstaltung der Gemeinde Leck wird unterstützt vom Verein Radeln ohne Alter Leck e.V.\, der die Besucher mit einer Rikscha unentgeltlich in den Ort oder zum Jahrmarkt fährt.
URL:https://leck-huus.de/event/12-lecker-landmarkt/
LOCATION:Bürger- und Kulturhof Leck-Huus\, Allee 32\, Leck\, 25917
CATEGORIES:diverses,Markt
ATTACH;FMTTYPE=image/jpeg:https://leck-huus.de/wp-content/uploads/2025/05/12.-LeckerLandmarkt.jpg
ORGANIZER;CN="Gemeinde Leck":MAILTO:info@gemeindemarketing-leck.de
END:VEVENT
END:VCALENDAR