BEGIN:VCALENDAR
VERSION:2.0
PRODID:-//Leck-Huus - ECPv6.15.18//NONSGML v1.0//EN
CALSCALE:GREGORIAN
METHOD:PUBLISH
X-ORIGINAL-URL:https://leck-huus.de
X-WR-CALDESC:Veranstaltungen für Leck-Huus
REFRESH-INTERVAL;VALUE=DURATION:PT1H
X-Robots-Tag:noindex
X-PUBLISHED-TTL:PT1H
BEGIN:VTIMEZONE
TZID:Europe/Berlin
BEGIN:DAYLIGHT
TZOFFSETFROM:+0100
TZOFFSETTO:+0200
TZNAME:CEST
DTSTART:20250330T010000
END:DAYLIGHT
BEGIN:STANDARD
TZOFFSETFROM:+0200
TZOFFSETTO:+0100
TZNAME:CET
DTSTART:20251026T010000
END:STANDARD
BEGIN:DAYLIGHT
TZOFFSETFROM:+0100
TZOFFSETTO:+0200
TZNAME:CEST
DTSTART:20260329T010000
END:DAYLIGHT
BEGIN:STANDARD
TZOFFSETFROM:+0200
TZOFFSETTO:+0100
TZNAME:CET
DTSTART:20261025T010000
END:STANDARD
BEGIN:DAYLIGHT
TZOFFSETFROM:+0100
TZOFFSETTO:+0200
TZNAME:CEST
DTSTART:20270328T010000
END:DAYLIGHT
BEGIN:STANDARD
TZOFFSETFROM:+0200
TZOFFSETTO:+0100
TZNAME:CET
DTSTART:20271031T010000
END:STANDARD
END:VTIMEZONE
BEGIN:VEVENT
DTSTART;TZID=Europe/Berlin:20261004T140000
DTEND;TZID=Europe/Berlin:20261004T180000
DTSTAMP:20260421T132256
CREATED:20260105T153846Z
LAST-MODIFIED:20260105T153846Z
UID:1554-1791122400-1791136800@leck-huus.de
SUMMARY:14. Lecker Landmarkt
DESCRIPTION:Wir freuen uns\, dass der 14. Lecker Landmarkt wieder in unserem Haus stattfindet. \nZweimal im Jahr sind regionale Produzenten und Kunsthandwerker eingeladen\, ihr Angebot parallel zum Lecker Jahrmarkt beim verkaufsoffenen Sonntag zu präsentieren. Am Sonntag\, den 04. Oktober 2026 von 14:00 bis 18:00 Uhr zum zweiten Mal in der Herbst-Edition „indoor“ im Leck-Huus. \nSelbstverständlich gibt es wieder eine Tombola mit tollen Preisen\, der Erlös kommt wie immer einem guten Zweck zugute.
URL:https://leck-huus.de/event/14-lecker-landmarkt/
LOCATION:Bürger- und Kulturhof Leck-Huus\, Allee 32\, Leck\, 25917
CATEGORIES:diverses,Markt
ATTACH;FMTTYPE=image/jpeg:https://leck-huus.de/wp-content/uploads/2026/01/14.-Lecker-Landmarkt.jpg
ORGANIZER;CN="Gemeinde Leck":MAILTO:info@gemeindemarketing-leck.de
END:VEVENT
END:VCALENDAR