BEGIN:VCALENDAR
VERSION:2.0
PRODID:-//Leck-Huus - ECPv6.15.18//NONSGML v1.0//EN
CALSCALE:GREGORIAN
METHOD:PUBLISH
X-ORIGINAL-URL:https://leck-huus.de
X-WR-CALDESC:Veranstaltungen für Leck-Huus
REFRESH-INTERVAL;VALUE=DURATION:PT1H
X-Robots-Tag:noindex
X-PUBLISHED-TTL:PT1H
BEGIN:VTIMEZONE
TZID:Europe/Berlin
BEGIN:DAYLIGHT
TZOFFSETFROM:+0100
TZOFFSETTO:+0200
TZNAME:CEST
DTSTART:20250330T010000
END:DAYLIGHT
BEGIN:STANDARD
TZOFFSETFROM:+0200
TZOFFSETTO:+0100
TZNAME:CET
DTSTART:20251026T010000
END:STANDARD
BEGIN:DAYLIGHT
TZOFFSETFROM:+0100
TZOFFSETTO:+0200
TZNAME:CEST
DTSTART:20260329T010000
END:DAYLIGHT
BEGIN:STANDARD
TZOFFSETFROM:+0200
TZOFFSETTO:+0100
TZNAME:CET
DTSTART:20261025T010000
END:STANDARD
BEGIN:DAYLIGHT
TZOFFSETFROM:+0100
TZOFFSETTO:+0200
TZNAME:CEST
DTSTART:20270328T010000
END:DAYLIGHT
BEGIN:STANDARD
TZOFFSETFROM:+0200
TZOFFSETTO:+0100
TZNAME:CET
DTSTART:20271031T010000
END:STANDARD
END:VTIMEZONE
BEGIN:VEVENT
DTSTART;TZID=Europe/Berlin:20260528T190000
DTEND;TZID=Europe/Berlin:20260528T210000
DTSTAMP:20260421T115629
CREATED:20251202T124113Z
LAST-MODIFIED:20251202T124746Z
UID:1496-1779994800-1780002000@leck-huus.de
SUMMARY:Rebekka Frank - Lesung "Spiegelland"
DESCRIPTION:Spiegelland\nDer neue Roman der Autorin von Stromlinien \nWie tief musst du graben\, um die Wahrheit zu finden?\nElias hat so richtig Mist gebaut\, das weiß er. Er versteckt sich den Sommer über bei seiner Großmutter Catharina im Moor. Doch auch sie hütet ein Geheimnis\, das alles infrage stellt\, was Elias zu wissen glaubt … \nEin unendlich weiter Sommer\, ein Vierteljahrhundert zuvor: Nach Jahren der Angst findet Catharina endlich den Mut\, aus ihrer Ehe auszubrechen. Mit ihrer Tochter flieht sie in ein altes Haus im Moor. Während der Sonnentau im ersten Licht des Morgens leuchtet und die Rauchschwalben rufen\, spürt sie sich zum ersten Mal wieder. Doch nichts ist wirklich sicher. Erst recht nicht\, als Catharina im Moor eine Entdeckung macht\, die ihren Mann auf ihre Spur bringen könnte. \nRebekka Frank wurde 1988 in Kassel geboren und wuchs auf dem Land auf\, zwischen weiten Wiesen und Wäldern. Obwohl sie für ihr Studium in die Großstadt ging und dort nicht nur Theaterwissenschaft und Germanistik\, sondern auch Menschen studierte\, ließ die Natur sie niemals los. Bis heute ist sie ihr Inspiration und Rückzugsort\, wenn sie mit ihrem Hund durch Küsten-\, Marsch- oder Flusslandschaften streift. In ihren Romanen sucht sie stets nach der Verbindung zwischen der Kraft der Natur und unserem Leben. Im Zentrum ihrer Geschichten stehen die kleinen und vor allem die großen Geheimnisse\, die wir alle in uns tragen\, die uns voneinander fernhalten oder uns auch zusammenbringen können. Heute lebt sie mit ihrer Familie wieder in Nordhessen. Auf Instagram und Tiktok ist sie unter @rebekka.mit.k zu finden. \nErscheinungstermin: 01.02.2026 \nFoto: Lexa Rost \n\nDie Eintrittskarten für unsere Veranstaltungen erhalten Sie an folgenden Vorverkaufsstellen: \nBuchhandlung Blattwerk & UweLo: Hauptstraße 33\, 25917 Leck\, 04662 8993134\nBücherstube Leu: Hauptstraße 48\, 25899 Niebüll\, 04661 5722 \nNatürlich können Sie Ihre Eintrittskarten auch direkt bei uns bestellen. Dazu stehen wir Ihnen per Mail unter info@leck-huus.de oder telefonisch unter 04662 / 25 76 zur Seite. Abendkasse je nach Verfügbarkeit. \nEinlass 18 Uhr\, 10 € Eintritt
URL:https://leck-huus.de/event/rebekka-frank-lesung-spiegelland/
LOCATION:Bürger- und Kulturhof Leck-Huus\, Allee 32\, Leck\, 25917
CATEGORIES:Lesung
ATTACH;FMTTYPE=image/avif:https://leck-huus.de/wp-content/uploads/2025/12/c-Lexa-Rost.avif
ORGANIZER;CN="Leck-Huus e.V.":MAILTO:info@leck-huus.de
END:VEVENT
END:VCALENDAR