BEGIN:VCALENDAR
VERSION:2.0
PRODID:-//Leck-Huus - ECPv6.15.18//NONSGML v1.0//EN
CALSCALE:GREGORIAN
METHOD:PUBLISH
X-ORIGINAL-URL:https://leck-huus.de
X-WR-CALDESC:Veranstaltungen für Leck-Huus
REFRESH-INTERVAL;VALUE=DURATION:PT1H
X-Robots-Tag:noindex
X-PUBLISHED-TTL:PT1H
BEGIN:VTIMEZONE
TZID:Europe/Berlin
BEGIN:DAYLIGHT
TZOFFSETFROM:+0100
TZOFFSETTO:+0200
TZNAME:CEST
DTSTART:20240331T010000
END:DAYLIGHT
BEGIN:STANDARD
TZOFFSETFROM:+0200
TZOFFSETTO:+0100
TZNAME:CET
DTSTART:20241027T010000
END:STANDARD
BEGIN:DAYLIGHT
TZOFFSETFROM:+0100
TZOFFSETTO:+0200
TZNAME:CEST
DTSTART:20250330T010000
END:DAYLIGHT
BEGIN:STANDARD
TZOFFSETFROM:+0200
TZOFFSETTO:+0100
TZNAME:CET
DTSTART:20251026T010000
END:STANDARD
BEGIN:DAYLIGHT
TZOFFSETFROM:+0100
TZOFFSETTO:+0200
TZNAME:CEST
DTSTART:20260329T010000
END:DAYLIGHT
BEGIN:STANDARD
TZOFFSETFROM:+0200
TZOFFSETTO:+0100
TZNAME:CET
DTSTART:20261025T010000
END:STANDARD
END:VTIMEZONE
BEGIN:VEVENT
DTSTART;TZID=Europe/Berlin:20250318T193000
DTEND;TZID=Europe/Berlin:20250318T210000
DTSTAMP:20260422T064116
CREATED:20250303T140201Z
LAST-MODIFIED:20250303T140211Z
UID:1249-1742326200-1742331600@leck-huus.de
SUMMARY:26. Mitgliederversammlung des Bürger- und Kulturhof Leck-Huus e.V.
DESCRIPTION:Sehr geehrte Damen und Herren\, \nhiermit laden wir Sie zur 26. Mitgliederversammlung am Dienstag\, den 18. März 2025 um 19:30 Uhr im Hause Allee 32 sehr herzlich ein. (Tagesordnung zum Download als PDF) \nTagesordnung\n\n\n\nBegrüßung\nFeststellung der Beschlussfähigkeit\nGenehmigung der Niederschrift vom 24. April 2024\nBericht des Vorstandes\nKassenbericht und Vorlage Jahresabschluss 2024\nBericht der Kassenprüfer\nEntlastung des Vorstandes\nWahlen\n\nder/des stellv. Vorsitzenden\nder/des Schatzmeister/in/s\n1 Kassenprüfer\n\n\nVerschiedenes\n\n\n\nGäste sind herzlich willkommen! \nMit freundlichen Grüßen \nOtmar Löhrer\n1. Vorsitzender
URL:https://leck-huus.de/event/26-mitgliederversammlung-des-buerger-und-kulturhof-leck-huus-e-v/
LOCATION:Bürger- und Kulturhof Leck-Huus\, Allee 32\, Leck\, 25917
CATEGORIES:vereinsintern
ATTACH;FMTTYPE=image/jpeg:https://leck-huus.de/wp-content/uploads/2018/11/cropped-201811_Leck-Huus-5.jpg
ORGANIZER;CN="Leck-Huus e.V.":MAILTO:info@leck-huus.de
END:VEVENT
END:VCALENDAR